BEGIN:VCALENDAR
PRODID:trauma.georgia.gov
VERSION:2.0
CALSCALE:GREGORIAN
BEGIN:VEVENT
UID:519cb23d2609f89871ec966aa7fdd017
DTSTAMP:20260423T205244Z
SUMMARY:GTC EMS Education Grants Orientation
DESCRIPTION:Join Zoom Meeting\n\nhttps://us02web.zoom.us/j/86218743249?pwd=
 0Dv7cTahj1bqRcgbeBP8hzZauXtksB.1\n\nMeeting ID: 862 1874 3249\n\nPasscode:
  057474\n\n---\n\nOne tap mobile\n\n+13126266799\,\,86218743249#\,\,\,\,*0
 57474# US (Chicago)\n\n+16465588656\,\,86218743249#\,\,\,\,*057474# US (Ne
 w York)\n\n---\n\nJoin by SIP\n\n• 86218743249@zoomcrc.com\n\nJoin instr
 uctions\n\nhttps://us02web.zoom.us/meetings/86218743249/invitations?signat
 ure=3lcY4jIoGnM3lt_RTneMbx7zexFmUeAqkQIM5r1qEG0
URL:https://trauma.georgia.gov/events/2026-05-01/gtc-ems-education-grants-o
 rientation
DTSTART;VALUE=DATE:20260501
DTEND;VALUE=DATE:20260502
X-LIC-LOCATION:America/New_York
X-WR-TIMEZONE:America/New_York
END:VEVENT
BEGIN:VTIMEZONE
TZID:America/New_York
END:VTIMEZONE
END:VCALENDAR
