BEGIN:VCALENDAR
PRODID:trauma.georgia.gov
VERSION:2.0
CALSCALE:GREGORIAN
BEGIN:VEVENT
UID:8efcba81bfabbfe7549c56524b72247c
DTSTAMP:20260423T205244Z
SUMMARY:GQIP Quarterly Meeting/TMD Committee Meeting 
DESCRIPTION:Join Zoom Meetinghttps://us02web.zoom.us/j/82657081631?pwd=yLR0
 SSn5Vrr8yPafVbyuLvbPKMhqpS.1Meeting ID: 826 5708 1631Passcode: 220204---On
 e tap mobile+13052241968\,\,82657081631#\,\,\,\,*220204# US+13092053325\,\
 ,82657081631#\,\,\,\,*220204# USJoin instructionshttps://us02web.zoom.us/m
 eetings/82657081631/invitations?signature=E6MoJrqH6GTesOHFFTvbeYCyPxLyenru
 TAqh_v_5ENs
URL:https://trauma.georgia.gov/events/2026-05-19/gqip-quarterly-meetingtmd-
 committee-meeting
DTSTART;VALUE=DATE:20260519
DTEND;VALUE=DATE:20260520
X-LIC-LOCATION:America/New_York
X-WR-TIMEZONE:America/New_York
END:VEVENT
BEGIN:VTIMEZONE
TZID:America/New_York
END:VTIMEZONE
END:VCALENDAR
