BEGIN:VCALENDAR
PRODID:trauma.georgia.gov
VERSION:2.0
CALSCALE:GREGORIAN
BEGIN:VEVENT
UID:46111501fdb9501a01ff33204d83c444
DTSTAMP:20260423T205808Z
SUMMARY:GTC Trauma System Performance (Data) Committee Meeting 
DESCRIPTION:Join Zoom Meetinghttps://us02web.zoom.us/j/87081475016?pwd=DLCG
 DHPSGb7rzyQabz6Yt01VML0NZX.1\n\nMeeting ID: 870 8147 5016Passcode: 782659\
 n\n---\n\nOne tap mobile+16465588656\,\,87081475016#\,\,\,\,*782659# US (N
 ew York)+16469313860\,\,87081475016#\,\,\,\,*782659# US\n\nJoin instructio
 nshttps://us02web.zoom.us/meetings/87081475016/invitations?signature=Q3hGX
 qwMEQsGagtoRZw9bF1CR40GGWS90gwv9b27-rI\n\n 
URL:https://trauma.georgia.gov/events/2026-04-30/gtc-trauma-system-performa
 nce-data-committee-meeting
DTSTART;VALUE=DATE:20260430
DTEND;VALUE=DATE:20260501
X-LIC-LOCATION:America/New_York
X-WR-TIMEZONE:America/New_York
END:VEVENT
BEGIN:VTIMEZONE
TZID:America/New_York
END:VTIMEZONE
END:VCALENDAR
