BEGIN:VCALENDAR
PRODID:trauma.georgia.gov
VERSION:2.0
CALSCALE:GREGORIAN
BEGIN:VEVENT
UID:a9de22d8e8089a7c81496cd027b102fb
DTSTAMP:20260423T224802Z
SUMMARY:GQIP 2026 Summer Meeting
DESCRIPTION:Morning: Open Session (open to all registered attendees)\n\nAft
 ernoon: Closed Session (Attendees are limited to licensed professionals fr
 om those Trauma Centers participating in GQIP through data submission)\n\n
 We look forward to our August session! Please check our website for update
 s: https://trauma.georgia.gov/events/2026-08-21/save-date-gqip-summer-meet
 ing \n\nDraft schedule attached below under Related Files
URL:https://trauma.georgia.gov/events/2026-08-21/gqip-2026-summer-meeting-0
DTSTART;VALUE=DATE:20260821
DTEND;VALUE=DATE:20260822
X-LIC-LOCATION:America/New_York
X-WR-TIMEZONE:America/New_York
END:VEVENT
BEGIN:VTIMEZONE
TZID:America/New_York
END:VTIMEZONE
END:VCALENDAR
